

BEGIN:VCALENDAR
VERSION:2.0
PRODID:-//SVP Schweiz //NONSGML Events //EN
CALSCALE:GREGORIAN
X-WR-CALNAME:SVP Schweiz
BEGIN:VEVENT
CREATED:20171205T100754Z
UID:80845
DTEND:20171206T134500
DTSTART:20171206T123000
DTSTAMP:20260420T132726Z
LOCATION:Casinoplatz\, Bern
DESCRIPTION: &gt; Inserat (PDF) &gt; Situationsplan (PDF)
SUMMARY:25 Jahre EWR/EU-Nein: Apéro mit der SVP-Fraktion
ORGANIZER:SVP Schweiz
URL;VALUE=URI:https://www.svp.ch/aktuell/termine/25-jahre-ewreu-nein-apero-mit-der-svp-fraktion/
TRANSP:OPAQUE
END:VEVENT
END:VCALENDAR
