

BEGIN:VCALENDAR
VERSION:2.0
PRODID:-//SVP Schweiz //NONSGML Events //EN
CALSCALE:GREGORIAN
X-WR-CALNAME:SVP Schweiz
BEGIN:VEVENT
CREATED:20180313T160305Z
UID:82283
DTEND:20180316T190000
DTSTART:20180316T183000
DTSTAMP:20260422T112302Z
LOCATION:Café des Amis\, Rue des Rois Mages\, 1965 Savièse
DESCRIPTION:
SUMMARY:Sessionsrückblick mit Jean-Luc Addor
ORGANIZER:
URL;VALUE=URI:https://www.svp.ch/aktuell/termine/sessionsrueckblick-mit-jean-luc-addor/
TRANSP:OPAQUE
END:VEVENT
END:VCALENDAR
