

BEGIN:VCALENDAR
VERSION:2.0
PRODID:-//SVP Schweiz //NONSGML Events //EN
CALSCALE:GREGORIAN
X-WR-CALNAME:SVP Schweiz
BEGIN:VEVENT
CREATED:20180314T064623Z
UID:82306
DTEND:20180320T200000
DTSTART:20180320T193000
DTSTAMP:20260419T230641Z
LOCATION:Restaurant Kaserne\, Kantinenweg 6\, 4410 Liestal
DESCRIPTION:
SUMMARY:Sessionsrückblick mit Thomas de Courten und Sandra Sollberger
ORGANIZER:
URL;VALUE=URI:https://www.svp.ch/aktuell/termine/sessionsrueckblick-mit-thomas-de-courten/
TRANSP:OPAQUE
END:VEVENT
END:VCALENDAR
