

BEGIN:VCALENDAR
VERSION:2.0
PRODID:-//SVP Schweiz //NONSGML Events //EN
CALSCALE:GREGORIAN
X-WR-CALNAME:SVP Schweiz
BEGIN:VEVENT
CREATED:20180711T135642Z
UID:84359
DTEND:20190519T000000
DTSTART:20190519T000000
DTSTAMP:20260420T132726Z
LOCATION:
DESCRIPTION:
SUMMARY:Eidgenössische Abstimmung vom 19. Mai 2019
ORGANIZER:
URL;VALUE=URI:https://www.svp.ch/aktuell/termine/eidgenoessische-abstimmung-6/
TRANSP:OPAQUE
END:VEVENT
END:VCALENDAR
