

BEGIN:VCALENDAR
VERSION:2.0
PRODID:-//SVP Schweiz //NONSGML Events //EN
CALSCALE:GREGORIAN
X-WR-CALNAME:SVP Schweiz
BEGIN:VEVENT
CREATED:20180711T142402Z
UID:84389
DTEND:20190831T000000
DTSTART:20190831T000000
DTSTAMP:20260420T144225Z
LOCATION:
DESCRIPTION:
SUMMARY:Delegiertenversammlung
ORGANIZER:
URL;VALUE=URI:https://www.svp.ch/aktuell/termine/delegiertenversammlung-21/
TRANSP:OPAQUE
END:VEVENT
END:VCALENDAR
