

BEGIN:VCALENDAR
VERSION:2.0
PRODID:-//SVP Schweiz //NONSGML Events //EN
CALSCALE:GREGORIAN
X-WR-CALNAME:SVP Schweiz
BEGIN:VEVENT
CREATED:20201007T081008Z
UID:99426
DTEND:20211128T000000
DTSTART:20211128T000000
DTSTAMP:20260420T132725Z
LOCATION:
DESCRIPTION:
SUMMARY:Eidgenössische Abstimmung vom 28. November 2021
ORGANIZER:
URL;VALUE=URI:https://www.svp.ch/aktuell/termine/eidgenoessische-abstimmung-14/
TRANSP:OPAQUE
END:VEVENT
END:VCALENDAR
